BEGIN:VCALENDAR
VERSION:2.0
PRODID:-//Homestead In The Willows - ECPv6.15.20//NONSGML v1.0//EN
CALSCALE:GREGORIAN
METHOD:PUBLISH
X-ORIGINAL-URL:https://homesteadinthewillows.org
X-WR-CALDESC:Events for Homestead In The Willows
REFRESH-INTERVAL;VALUE=DURATION:PT1H
X-Robots-Tag:noindex
X-PUBLISHED-TTL:PT1H
BEGIN:VTIMEZONE
TZID:America/Denver
BEGIN:DAYLIGHT
TZOFFSETFROM:-0700
TZOFFSETTO:-0600
TZNAME:MDT
DTSTART:20250309T090000
END:DAYLIGHT
BEGIN:STANDARD
TZOFFSETFROM:-0600
TZOFFSETTO:-0700
TZNAME:MST
DTSTART:20251102T080000
END:STANDARD
BEGIN:DAYLIGHT
TZOFFSETFROM:-0700
TZOFFSETTO:-0600
TZNAME:MDT
DTSTART:20260308T090000
END:DAYLIGHT
BEGIN:STANDARD
TZOFFSETFROM:-0600
TZOFFSETTO:-0700
TZNAME:MST
DTSTART:20261101T080000
END:STANDARD
BEGIN:DAYLIGHT
TZOFFSETFROM:-0700
TZOFFSETTO:-0600
TZNAME:MDT
DTSTART:20270314T090000
END:DAYLIGHT
BEGIN:STANDARD
TZOFFSETFROM:-0600
TZOFFSETTO:-0700
TZNAME:MST
DTSTART:20271107T080000
END:STANDARD
END:VTIMEZONE
BEGIN:VEVENT
DTSTART;TZID=America/Denver:20260416T190000
DTEND;TZID=America/Denver:20260416T203000
DTSTAMP:20260425T100818
CREATED:20260329T180452Z
LAST-MODIFIED:20260412T180515Z
UID:4146-1776366000-1776371400@homesteadinthewillows.org
SUMMARY:Homestead Hurricanes Swim meeting
DESCRIPTION:We are gearing up for another super fun swim season! We will be hosting a Parent Information Night on Thursday April 16th at Koebel Library. We will go over everything you need to know about the upcoming season\, fun events\, volunteer requirements\, and swimmers will be able to try on swim suits for sizing. We look forward to seeing you there! \nAs always\, if you have any questions\, please email me at geniella.lester@gmail.com or text me at 720-998-6417. \nSKO’ CANES! \nGeniella Lester \nHomestead Hurricane Parent Rep
URL:https://homesteadinthewillows.org/calendar/homestead-hurricanes-swim-meeting/
LOCATION:Homestead Elementary Cafeteria\, 7451 S Homestead Pkwy\, Centennial\, CO\, 80112\, United States
CATEGORIES:Swim Team
ATTACH;FMTTYPE=image/jpeg:https://homesteadinthewillows.org/wp-content/uploads/2024/04/Picture1.jpg
END:VEVENT
BEGIN:VEVENT
DTSTART;TZID=America/Denver:20260511T153000
DTEND;TZID=America/Denver:20260511T170000
DTSTAMP:20260425T100818
CREATED:20260415T001637Z
LAST-MODIFIED:20260415T023202Z
UID:4217-1778513400-1778518800@homesteadinthewillows.org
SUMMARY:New Swimmer Tryouts
DESCRIPTION:
URL:https://homesteadinthewillows.org/calendar/new-swimmer-tryouts/
LOCATION:North Pool\, 6767 E Easter Ave
CATEGORIES:Swim Team
ATTACH;FMTTYPE=image/jpeg:https://homesteadinthewillows.org/wp-content/uploads/2024/04/Picture1.jpg
END:VEVENT
BEGIN:VEVENT
DTSTART;TZID=America/Denver:20260512T153000
DTEND;TZID=America/Denver:20260512T170000
DTSTAMP:20260425T100818
CREATED:20260415T001819Z
LAST-MODIFIED:20260415T023313Z
UID:4220-1778599800-1778605200@homesteadinthewillows.org
SUMMARY:New Swimmer Tryouts
DESCRIPTION:
URL:https://homesteadinthewillows.org/calendar/new-swimmer-tryouts-2/
LOCATION:North Pool\, 6767 E Easter Ave
CATEGORIES:Swim Team
ATTACH;FMTTYPE=image/jpeg:https://homesteadinthewillows.org/wp-content/uploads/2024/04/Picture1.jpg
END:VEVENT
BEGIN:VEVENT
DTSTART;TZID=America/Denver:20260513T154500
DTEND;TZID=America/Denver:20260513T190000
DTSTAMP:20260425T100818
CREATED:20260415T002451Z
LAST-MODIFIED:20260415T003222Z
UID:4222-1778687100-1778698800@homesteadinthewillows.org
SUMMARY:Afternoon swim practice starts
DESCRIPTION:Hurricanes Swim team afternoon practice starts May 13 until May 22
URL:https://homesteadinthewillows.org/calendar/afternoon-swim-practice-start/
LOCATION:North Pool\, 6767 E Easter Ave
CATEGORIES:Swim Team
END:VEVENT
BEGIN:VEVENT
DTSTART;TZID=America/Denver:20260526T074500
DTEND;TZID=America/Denver:20260526T120000
DTSTAMP:20260425T100818
CREATED:20260415T002845Z
LAST-MODIFIED:20260415T003113Z
UID:4226-1779781500-1779796800@homesteadinthewillows.org
SUMMARY:Morning swim practice starts
DESCRIPTION:Hurricanes swim team start morning practices from May 26 though July 11
URL:https://homesteadinthewillows.org/calendar/morning-swim-practice-starts/
LOCATION:North Pool\, 6767 E Easter Ave
CATEGORIES:Swim Team
END:VEVENT
BEGIN:VEVENT
DTSTART;TZID=America/Denver:20260530T060000
DTEND;TZID=America/Denver:20260530T140000
DTSTAMP:20260425T100818
CREATED:20260415T003854Z
LAST-MODIFIED:20260415T023422Z
UID:4237-1780120800-1780149600@homesteadinthewillows.org
SUMMARY:Hurricanes vs Sundance Hills
DESCRIPTION:Homestead Hurricanes swim team are hosting a meet against Sundance.  Expect traffic\, music and cheer!
URL:https://homesteadinthewillows.org/calendar/hurricanes-vs-sundance/
LOCATION:North Pool\, 6767 E Easter Ave
CATEGORIES:Swim Team
ATTACH;FMTTYPE=image/jpeg:https://homesteadinthewillows.org/wp-content/uploads/2024/04/Picture1.jpg
END:VEVENT
BEGIN:VEVENT
DTSTART;TZID=America/Denver:20260602T180000
DTEND;TZID=America/Denver:20260602T200000
DTSTAMP:20260425T100818
CREATED:20260415T021547Z
LAST-MODIFIED:20260415T021547Z
UID:4243-1780423200-1780430400@homesteadinthewillows.org
SUMMARY:Star Meet
DESCRIPTION:
URL:https://homesteadinthewillows.org/calendar/star-meet-5/
LOCATION:North Pool\, 6767 E Easter Ave
CATEGORIES:Swim Team
ATTACH;FMTTYPE=image/jpeg:https://homesteadinthewillows.org/wp-content/uploads/2024/04/Picture1.jpg
END:VEVENT
BEGIN:VEVENT
DTSTART;TZID=America/Denver:20260609T180000
DTEND;TZID=America/Denver:20260609T200000
DTSTAMP:20260425T100818
CREATED:20260415T021808Z
LAST-MODIFIED:20260415T021809Z
UID:4246-1781028000-1781035200@homesteadinthewillows.org
SUMMARY:Star meet
DESCRIPTION:
URL:https://homesteadinthewillows.org/calendar/star-meet-6/
LOCATION:North Pool\, 6767 E Easter Ave
CATEGORIES:Swim Team
ATTACH;FMTTYPE=image/jpeg:https://homesteadinthewillows.org/wp-content/uploads/2024/04/Picture1.jpg
END:VEVENT
BEGIN:VEVENT
DTSTART;TZID=America/Denver:20260620T060000
DTEND;TZID=America/Denver:20260620T140000
DTSTAMP:20260425T100818
CREATED:20260415T022350Z
LAST-MODIFIED:20260415T022350Z
UID:4252-1781935200-1781964000@homesteadinthewillows.org
SUMMARY:Hurricanes vs Cherry Knolls
DESCRIPTION:
URL:https://homesteadinthewillows.org/calendar/hurricanes-vs-cherry-knolls/
LOCATION:North Pool\, 6767 E Easter Ave
CATEGORIES:Swim Team
ATTACH;FMTTYPE=image/jpeg:https://homesteadinthewillows.org/wp-content/uploads/2024/04/Picture1.jpg
END:VEVENT
BEGIN:VEVENT
DTSTART;TZID=America/Denver:20260623T180000
DTEND;TZID=America/Denver:20260623T200000
DTSTAMP:20260425T100818
CREATED:20260415T022530Z
LAST-MODIFIED:20260415T022530Z
UID:4255-1782237600-1782244800@homesteadinthewillows.org
SUMMARY:Star Meet
DESCRIPTION:
URL:https://homesteadinthewillows.org/calendar/star-meet-8/
LOCATION:North Pool\, 6767 E Easter Ave
CATEGORIES:Swim Team
ATTACH;FMTTYPE=image/jpeg:https://homesteadinthewillows.org/wp-content/uploads/2024/04/Picture1.jpg
END:VEVENT
BEGIN:VEVENT
DTSTART;TZID=America/Denver:20260630T180000
DTEND;TZID=America/Denver:20260630T200000
DTSTAMP:20260425T100818
CREATED:20260415T022815Z
LAST-MODIFIED:20260415T022815Z
UID:4258-1782842400-1782849600@homesteadinthewillows.org
SUMMARY:Star Meet
DESCRIPTION:
URL:https://homesteadinthewillows.org/calendar/star-meet-9/
LOCATION:North Pool\, 6767 E Easter Ave
CATEGORIES:Swim Team
ATTACH;FMTTYPE=image/jpeg:https://homesteadinthewillows.org/wp-content/uploads/2024/04/Picture1.jpg
END:VEVENT
BEGIN:VEVENT
DTSTART;TZID=America/Denver:20260707T060000
DTEND;TZID=America/Denver:20260707T153000
DTSTAMP:20260425T100818
CREATED:20260415T023057Z
LAST-MODIFIED:20260415T023058Z
UID:4261-1783404000-1783438200@homesteadinthewillows.org
SUMMARY:8 & UNDER Prelims
DESCRIPTION:
URL:https://homesteadinthewillows.org/calendar/8-under-prelims/
LOCATION:North Pool\, 6767 E Easter Ave
CATEGORIES:Swim Team
ATTACH;FMTTYPE=image/jpeg:https://homesteadinthewillows.org/wp-content/uploads/2024/04/Picture1.jpg
END:VEVENT
END:VCALENDAR