BEGIN:VCALENDAR
VERSION:2.0
PRODID:-//Homestead In The Willows - ECPv6.15.20//NONSGML v1.0//EN
CALSCALE:GREGORIAN
METHOD:PUBLISH
X-ORIGINAL-URL:https://homesteadinthewillows.org
X-WR-CALDESC:Events for Homestead In The Willows
REFRESH-INTERVAL;VALUE=DURATION:PT1H
X-Robots-Tag:noindex
X-PUBLISHED-TTL:PT1H
BEGIN:VTIMEZONE
TZID:America/Denver
BEGIN:DAYLIGHT
TZOFFSETFROM:-0700
TZOFFSETTO:-0600
TZNAME:MDT
DTSTART:20230312T090000
END:DAYLIGHT
BEGIN:STANDARD
TZOFFSETFROM:-0600
TZOFFSETTO:-0700
TZNAME:MST
DTSTART:20231105T080000
END:STANDARD
BEGIN:DAYLIGHT
TZOFFSETFROM:-0700
TZOFFSETTO:-0600
TZNAME:MDT
DTSTART:20240310T090000
END:DAYLIGHT
BEGIN:STANDARD
TZOFFSETFROM:-0600
TZOFFSETTO:-0700
TZNAME:MST
DTSTART:20241103T080000
END:STANDARD
BEGIN:DAYLIGHT
TZOFFSETFROM:-0700
TZOFFSETTO:-0600
TZNAME:MDT
DTSTART:20250309T090000
END:DAYLIGHT
BEGIN:STANDARD
TZOFFSETFROM:-0600
TZOFFSETTO:-0700
TZNAME:MST
DTSTART:20251102T080000
END:STANDARD
BEGIN:DAYLIGHT
TZOFFSETFROM:-0700
TZOFFSETTO:-0600
TZNAME:MDT
DTSTART:20260308T090000
END:DAYLIGHT
BEGIN:STANDARD
TZOFFSETFROM:-0600
TZOFFSETTO:-0700
TZNAME:MST
DTSTART:20261101T080000
END:STANDARD
END:VTIMEZONE
BEGIN:VEVENT
DTSTART;TZID=America/Denver:20250417T190000
DTEND;TZID=America/Denver:20250417T200000
DTSTAMP:20260423T145301
CREATED:20250318T153510Z
LAST-MODIFIED:20250318T153521Z
UID:3309-1744916400-1744920000@homesteadinthewillows.org
SUMMARY:Homestead Hurricanes Virtual Parent Information Meeting 
DESCRIPTION:Join The virtual Meeting to find out all you need to know about the 2025 Swim Season. \n \nUse the QR Code above for the meeting link on Microsoft Teams \nMeeting ID: 283 529 636 461         Passcode: AY6uj9U5 \n 
URL:https://homesteadinthewillows.org/calendar/homestead-hurricanes-virtual-parent-information-meeting/
CATEGORIES:Swim Team
ATTACH;FMTTYPE=image/png:https://homesteadinthewillows.org/wp-content/uploads/2023/08/iconswimmernavy.png
END:VEVENT
BEGIN:VEVENT
DTSTART;TZID=America/Denver:20240710T060000
DTEND;TZID=America/Denver:20240710T150000
DTSTAMP:20260423T145301
CREATED:20240708T235310Z
LAST-MODIFIED:20240709T024416Z
UID:2835-1720591200-1720623600@homesteadinthewillows.org
SUMMARY:Homestead Hurricanes host 9/10 Prelims
DESCRIPTION:
URL:https://homesteadinthewillows.org/calendar/homestead-hurricanes-host-9-10-prelims/
LOCATION:North Pool\, 6767 E Easter Ave
CATEGORIES:Swim Team
END:VEVENT
BEGIN:VEVENT
DTSTART;TZID=America/Denver:20240425T090000
DTEND;TZID=America/Denver:20240425T233000
DTSTAMP:20260423T145301
CREATED:20240414T184143Z
LAST-MODIFIED:20240414T185837Z
UID:2551-1714035600-1714087800@homesteadinthewillows.org
SUMMARY:Swim Team Registration
DESCRIPTION:Registration will take place through our website from April 25 at 9:00 pm through May 24
URL:https://homesteadinthewillows.org/calendar/swim-team-registration/
CATEGORIES:Swim Team
ATTACH;FMTTYPE=image/jpeg:https://homesteadinthewillows.org/wp-content/uploads/2024/04/Picture1.jpg
END:VEVENT
BEGIN:VEVENT
DTSTART;TZID=America/Denver:20240418T183000
DTEND;TZID=America/Denver:20240418T200000
DTSTAMP:20260423T145301
CREATED:20240414T183849Z
LAST-MODIFIED:20240414T183859Z
UID:2546-1713465000-1713470400@homesteadinthewillows.org
SUMMARY:Hurricanes Annual Meeting & Mixer
DESCRIPTION:Who’s ready for summer swim? Your Homestead Coaches and Parent Reps are ready for YOU! We can’t wait to fill you in on all the important happenings for our summer swim team. Make sure you attend the Information Meeting and Mixer on April 18th to hear about our upcoming season and meet schedule\, important RMSL updates\, volunteer positions\, outings\, Swim-a-thon details and much more. This meeting is for new AND returning families as many updates will be shared. Plus\, you get to meet some of our incredible coaches. Also\, we will have discounted Hurricanes spirit wear from last year as well as swimsuits to try on if you need to order for the coming season! There may be a few more surprises in store…stay tuned to the Hurricanes Facebook Page for more updates this month.
URL:https://homesteadinthewillows.org/calendar/hurricanes-annual-meeting-mixer/
LOCATION:Homestead Elementary School\, 7451 S Homestead Pkwy\, Centennial\, CO\, 80112\, United States
CATEGORIES:Swim Team
END:VEVENT
END:VCALENDAR