BEGIN:VCALENDAR
VERSION:2.0
PRODID:-//Homestead In The Willows - ECPv6.15.20//NONSGML v1.0//EN
CALSCALE:GREGORIAN
METHOD:PUBLISH
X-WR-CALNAME:Homestead In The Willows
X-ORIGINAL-URL:https://homesteadinthewillows.org
X-WR-CALDESC:Events for Homestead In The Willows
REFRESH-INTERVAL;VALUE=DURATION:PT1H
X-Robots-Tag:noindex
X-PUBLISHED-TTL:PT1H
BEGIN:VTIMEZONE
TZID:America/Denver
BEGIN:DAYLIGHT
TZOFFSETFROM:-0700
TZOFFSETTO:-0600
TZNAME:MDT
DTSTART:20240310T090000
END:DAYLIGHT
BEGIN:STANDARD
TZOFFSETFROM:-0600
TZOFFSETTO:-0700
TZNAME:MST
DTSTART:20241103T080000
END:STANDARD
BEGIN:DAYLIGHT
TZOFFSETFROM:-0700
TZOFFSETTO:-0600
TZNAME:MDT
DTSTART:20250309T090000
END:DAYLIGHT
BEGIN:STANDARD
TZOFFSETFROM:-0600
TZOFFSETTO:-0700
TZNAME:MST
DTSTART:20251102T080000
END:STANDARD
BEGIN:DAYLIGHT
TZOFFSETFROM:-0700
TZOFFSETTO:-0600
TZNAME:MDT
DTSTART:20260308T090000
END:DAYLIGHT
BEGIN:STANDARD
TZOFFSETFROM:-0600
TZOFFSETTO:-0700
TZNAME:MST
DTSTART:20261101T080000
END:STANDARD
END:VTIMEZONE
BEGIN:VEVENT
DTSTART;TZID=America/Denver:20250713T173000
DTEND;TZID=America/Denver:20250713T200000
DTSTAMP:20260423T235433
CREATED:20250524T160541Z
LAST-MODIFIED:20250524T161142Z
UID:3485-1752427800-1752436800@homesteadinthewillows.org
SUMMARY:Swim team end of season Ceremony
DESCRIPTION:
URL:https://homesteadinthewillows.org/calendar/swim-team-end-of-season-ceremony/
LOCATION:South Pool Lawn area
CATEGORIES:Swim Team
END:VEVENT
END:VCALENDAR