BEGIN:VCALENDAR
VERSION:2.0
PRODID:-//Homestead In The Willows - ECPv6.15.20//NONSGML v1.0//EN
CALSCALE:GREGORIAN
METHOD:PUBLISH
X-ORIGINAL-URL:https://homesteadinthewillows.org
X-WR-CALDESC:Events for Homestead In The Willows
REFRESH-INTERVAL;VALUE=DURATION:PT1H
X-Robots-Tag:noindex
X-PUBLISHED-TTL:PT1H
BEGIN:VTIMEZONE
TZID:America/Denver
BEGIN:DAYLIGHT
TZOFFSETFROM:-0700
TZOFFSETTO:-0600
TZNAME:MDT
DTSTART:20240310T090000
END:DAYLIGHT
BEGIN:STANDARD
TZOFFSETFROM:-0600
TZOFFSETTO:-0700
TZNAME:MST
DTSTART:20241103T080000
END:STANDARD
BEGIN:DAYLIGHT
TZOFFSETFROM:-0700
TZOFFSETTO:-0600
TZNAME:MDT
DTSTART:20250309T090000
END:DAYLIGHT
BEGIN:STANDARD
TZOFFSETFROM:-0600
TZOFFSETTO:-0700
TZNAME:MST
DTSTART:20251102T080000
END:STANDARD
BEGIN:DAYLIGHT
TZOFFSETFROM:-0700
TZOFFSETTO:-0600
TZNAME:MDT
DTSTART:20260308T090000
END:DAYLIGHT
BEGIN:STANDARD
TZOFFSETFROM:-0600
TZOFFSETTO:-0700
TZNAME:MST
DTSTART:20261101T080000
END:STANDARD
END:VTIMEZONE
BEGIN:VEVENT
DTSTART;TZID=America/Denver:20250530T180000
DTEND;TZID=America/Denver:20250530T200000
DTSTAMP:20260424T010535
CREATED:20250524T153821Z
LAST-MODIFIED:20250524T154430Z
UID:3466-1748628000-1748635200@homesteadinthewillows.org
SUMMARY:Swim team Season opener Pep Rally
DESCRIPTION:
URL:https://homesteadinthewillows.org/calendar/swim-team-season-opener-pep-rally/
LOCATION:North Pool\, 6767 E Easter Ave
CATEGORIES:Swim Team
END:VEVENT
BEGIN:VEVENT
DTSTART;TZID=America/Denver:20250531T060000
DTEND;TZID=America/Denver:20250531T140000
DTSTAMP:20260424T010535
CREATED:20250524T153456Z
LAST-MODIFIED:20250524T153644Z
UID:3462-1748671200-1748700000@homesteadinthewillows.org
SUMMARY:Swim meet Hurricanes vs Sundance Hills
DESCRIPTION:
URL:https://homesteadinthewillows.org/calendar/swim-meet-hurricanes-vs-ccv/
LOCATION:North Pool\, 6767 E Easter Ave
CATEGORIES:Swim Team
END:VEVENT
END:VCALENDAR