BEGIN:VCALENDAR
VERSION:2.0
PRODID:-//Homestead In The Willows - ECPv6.15.20//NONSGML v1.0//EN
CALSCALE:GREGORIAN
METHOD:PUBLISH
X-ORIGINAL-URL:https://homesteadinthewillows.org
X-WR-CALDESC:Events for Homestead In The Willows
REFRESH-INTERVAL;VALUE=DURATION:PT1H
X-Robots-Tag:noindex
X-PUBLISHED-TTL:PT1H
BEGIN:VTIMEZONE
TZID:America/Denver
BEGIN:DAYLIGHT
TZOFFSETFROM:-0700
TZOFFSETTO:-0600
TZNAME:MDT
DTSTART:20230312T090000
END:DAYLIGHT
BEGIN:STANDARD
TZOFFSETFROM:-0600
TZOFFSETTO:-0700
TZNAME:MST
DTSTART:20231105T080000
END:STANDARD
BEGIN:DAYLIGHT
TZOFFSETFROM:-0700
TZOFFSETTO:-0600
TZNAME:MDT
DTSTART:20240310T090000
END:DAYLIGHT
BEGIN:STANDARD
TZOFFSETFROM:-0600
TZOFFSETTO:-0700
TZNAME:MST
DTSTART:20241103T080000
END:STANDARD
BEGIN:DAYLIGHT
TZOFFSETFROM:-0700
TZOFFSETTO:-0600
TZNAME:MDT
DTSTART:20250309T090000
END:DAYLIGHT
BEGIN:STANDARD
TZOFFSETFROM:-0600
TZOFFSETTO:-0700
TZNAME:MST
DTSTART:20251102T080000
END:STANDARD
END:VTIMEZONE
BEGIN:VEVENT
DTSTART;TZID=America/Denver:20241222T170000
DTEND;TZID=America/Denver:20241222T170000
DTSTAMP:20260424T093242
CREATED:20241119T210519Z
LAST-MODIFIED:20241119T210519Z
UID:3032-1734886800-1734886800@homesteadinthewillows.org
SUMMARY:Holiday Carriage Rides
DESCRIPTION:Get ready for a Festive treat! Horse-drawn carriage rides are back. \nJoin Us Wednesday\, December 18\, at the West pool starting from 5pm for horse-drawn carriage rides. (reservations required). \nOn Sunday\, December 22\, head to the North pool for a 5pm start.(reservations required) \nRides leave every 20 minutes as listed on the form. To secure your spot for the horse rides\, please submit the attached reservation form with a check to the HOA office by December 7\, 2024\, no sooner than 8am. \n$10 per person (3 & under free) \n\nReservation forms for printing
URL:https://homesteadinthewillows.org/calendar/holiday-carriage-rides-4/
LOCATION:Homestead North Pool and Tennis Courts\, 6767 E Easter Ave.\, Centennial\, CO\, 80112\, United States
CATEGORIES:Holidays
ATTACH;FMTTYPE=image/png:https://homesteadinthewillows.org/wp-content/uploads/2023/11/horse-1.png
END:VEVENT
END:VCALENDAR