BEGIN:VCALENDAR
VERSION:2.0
PRODID:-//Homestead In The Willows - ECPv6.15.20//NONSGML v1.0//EN
CALSCALE:GREGORIAN
METHOD:PUBLISH
X-WR-CALNAME:Homestead In The Willows
X-ORIGINAL-URL:https://homesteadinthewillows.org
X-WR-CALDESC:Events for Homestead In The Willows
REFRESH-INTERVAL;VALUE=DURATION:PT1H
X-Robots-Tag:noindex
X-PUBLISHED-TTL:PT1H
BEGIN:VTIMEZONE
TZID:America/Denver
BEGIN:DAYLIGHT
TZOFFSETFROM:-0700
TZOFFSETTO:-0600
TZNAME:MDT
DTSTART:20250309T090000
END:DAYLIGHT
BEGIN:STANDARD
TZOFFSETFROM:-0600
TZOFFSETTO:-0700
TZNAME:MST
DTSTART:20251102T080000
END:STANDARD
BEGIN:DAYLIGHT
TZOFFSETFROM:-0700
TZOFFSETTO:-0600
TZNAME:MDT
DTSTART:20260308T090000
END:DAYLIGHT
BEGIN:STANDARD
TZOFFSETFROM:-0600
TZOFFSETTO:-0700
TZNAME:MST
DTSTART:20261101T080000
END:STANDARD
BEGIN:DAYLIGHT
TZOFFSETFROM:-0700
TZOFFSETTO:-0600
TZNAME:MDT
DTSTART:20270314T090000
END:DAYLIGHT
BEGIN:STANDARD
TZOFFSETFROM:-0600
TZOFFSETTO:-0700
TZNAME:MST
DTSTART:20271107T080000
END:STANDARD
END:VTIMEZONE
BEGIN:VEVENT
DTSTART;TZID=America/Denver:20260309T190000
DTEND;TZID=America/Denver:20260309T210000
DTSTAMP:20260423T134208
CREATED:20231107T185631Z
LAST-MODIFIED:20260220T021609Z
UID:1808-1773082800-1773090000@homesteadinthewillows.org
SUMMARY:Annual General Meeting
DESCRIPTION:Our Annual meeting is scheduled to begin at 7pm on Monday\, March 9.  All homeowners are invited to attend.  The Board of Directors will again offer a drawing for a 50% refund of the 2026 dues for one lucky attendee.  Dues must be paid in full by March 1 to be eligible to win.
URL:https://homesteadinthewillows.org/calendar/https-homesteadinthewillows-org-annual-meeting-scheduled-march-11/
LOCATION:Homestead Elementary School\, 7451 S Homestead Pkwy\, Centennial\, CO\, 80112\, United States
CATEGORIES:HOA Board Meetings
ATTACH;FMTTYPE=image/png:https://homesteadinthewillows.org/wp-content/uploads/2023/08/icongrouptalkbrick.png
END:VEVENT
END:VCALENDAR