BEGIN:VCALENDAR
VERSION:2.0
PRODID:-//Homestead In The Willows - ECPv6.15.20//NONSGML v1.0//EN
CALSCALE:GREGORIAN
METHOD:PUBLISH
X-ORIGINAL-URL:https://homesteadinthewillows.org
X-WR-CALDESC:Events for Homestead In The Willows
REFRESH-INTERVAL;VALUE=DURATION:PT1H
X-Robots-Tag:noindex
X-PUBLISHED-TTL:PT1H
BEGIN:VTIMEZONE
TZID:America/Denver
BEGIN:DAYLIGHT
TZOFFSETFROM:-0700
TZOFFSETTO:-0600
TZNAME:MDT
DTSTART:20230312T090000
END:DAYLIGHT
BEGIN:STANDARD
TZOFFSETFROM:-0600
TZOFFSETTO:-0700
TZNAME:MST
DTSTART:20231105T080000
END:STANDARD
BEGIN:DAYLIGHT
TZOFFSETFROM:-0700
TZOFFSETTO:-0600
TZNAME:MDT
DTSTART:20240310T090000
END:DAYLIGHT
BEGIN:STANDARD
TZOFFSETFROM:-0600
TZOFFSETTO:-0700
TZNAME:MST
DTSTART:20241103T080000
END:STANDARD
BEGIN:DAYLIGHT
TZOFFSETFROM:-0700
TZOFFSETTO:-0600
TZNAME:MDT
DTSTART:20250309T090000
END:DAYLIGHT
BEGIN:STANDARD
TZOFFSETFROM:-0600
TZOFFSETTO:-0700
TZNAME:MST
DTSTART:20251102T080000
END:STANDARD
BEGIN:DAYLIGHT
TZOFFSETFROM:-0700
TZOFFSETTO:-0600
TZNAME:MDT
DTSTART:20260308T090000
END:DAYLIGHT
BEGIN:STANDARD
TZOFFSETFROM:-0600
TZOFFSETTO:-0700
TZNAME:MST
DTSTART:20261101T080000
END:STANDARD
END:VTIMEZONE
BEGIN:VEVENT
DTSTART;TZID=America/Denver:20250813T163000
DTEND;TZID=America/Denver:20250813T190000
DTSTAMP:20260423T201452
CREATED:20250812T194146Z
LAST-MODIFIED:20250812T195251Z
UID:3706-1755102600-1755111600@homesteadinthewillows.org
SUMMARY:Food Trucks OG Burgers
DESCRIPTION:
URL:https://homesteadinthewillows.org/calendar/food-trucks-2/
LOCATION:South Pool
CATEGORIES:Food Trucks
ATTACH;FMTTYPE=image/png:https://homesteadinthewillows.org/wp-content/uploads/2024/04/OG-Burgers.png
END:VEVENT
BEGIN:VEVENT
DTSTART;TZID=America/Denver:20250728T170000
DTEND;TZID=America/Denver:20250728T203000
DTSTAMP:20260423T201452
CREATED:20250727T142526Z
LAST-MODIFIED:20250727T142552Z
UID:3685-1753722000-1753734600@homesteadinthewillows.org
SUMMARY:Dude Bro Taco Food Truck
DESCRIPTION:
URL:https://homesteadinthewillows.org/calendar/dude-bro-taco-food-truck/
LOCATION:North Pool Parking Lot\, 6767 E Easter Ave\, Centennial
CATEGORIES:Food Trucks
END:VEVENT
BEGIN:VEVENT
DTSTART;TZID=America/Denver:20250714T160000
DTEND;TZID=America/Denver:20250714T200000
DTSTAMP:20260423T201452
CREATED:20250705T175438Z
LAST-MODIFIED:20250714T152058Z
UID:3599-1752508800-1752523200@homesteadinthewillows.org
SUMMARY:Billy's Gourmet Hot Dogs
DESCRIPTION:
URL:https://homesteadinthewillows.org/calendar/monday-summer-food-trucks/
LOCATION:North Pool Parking Lot\, 6767 E Easter Ave\, Centennial
CATEGORIES:Food Trucks
ATTACH;FMTTYPE=image/png:https://homesteadinthewillows.org/wp-content/uploads/2025/07/billys-gourmet.png
END:VEVENT
BEGIN:VEVENT
DTSTART;TZID=America/Denver:20250707T160000
DTEND;TZID=America/Denver:20250707T200000
DTSTAMP:20260423T201452
CREATED:20250705T173238Z
LAST-MODIFIED:20250705T175445Z
UID:3595-1751904000-1751918400@homesteadinthewillows.org
SUMMARY:HipPOPs Food Truck at South Pool
DESCRIPTION:
URL:https://homesteadinthewillows.org/calendar/hippops-food-truck-at-south-pool/
LOCATION:South Pool
CATEGORIES:Food Trucks
ATTACH;FMTTYPE=image/png:https://homesteadinthewillows.org/wp-content/uploads/2024/04/page-2.png
END:VEVENT
BEGIN:VEVENT
DTSTART;TZID=America/Denver:20240829T170000
DTEND;TZID=America/Denver:20240829T190000
DTSTAMP:20260423T201452
CREATED:20240414T183219Z
LAST-MODIFIED:20240823T230036Z
UID:2543-1724950800-1724958000@homesteadinthewillows.org
SUMMARY:Food Trucks
DESCRIPTION:
URL:https://homesteadinthewillows.org/calendar/food-trucks/
LOCATION:Homestead South Pool and Tennis Courts\, 7035 E Geddes Pl\, Centennial\, CO\, United States
CATEGORIES:Food Trucks
ATTACH;FMTTYPE=image/png:https://homesteadinthewillows.org/wp-content/uploads/2023/08/iconfoodtruckmulti.png
END:VEVENT
BEGIN:VEVENT
DTSTART;TZID=America/Denver:20240524T123000
DTEND;TZID=America/Denver:20240524T133000
DTSTAMP:20260423T201452
CREATED:20240414T184640Z
LAST-MODIFIED:20240414T185521Z
UID:2554-1716553800-1716557400@homesteadinthewillows.org
SUMMARY:Kona Ice
DESCRIPTION:
URL:https://homesteadinthewillows.org/calendar/kona-ice/
LOCATION:Homestead South Pool and Tennis Courts\, 7035 E Geddes Pl\, Centennial\, CO\, United States
CATEGORIES:Food Trucks
END:VEVENT
END:VCALENDAR