BEGIN:VCALENDAR
VERSION:2.0
PRODID:-//Homestead In The Willows - ECPv6.15.20//NONSGML v1.0//EN
CALSCALE:GREGORIAN
METHOD:PUBLISH
X-WR-CALNAME:Homestead In The Willows
X-ORIGINAL-URL:https://homesteadinthewillows.org
X-WR-CALDESC:Events for Homestead In The Willows
REFRESH-INTERVAL;VALUE=DURATION:PT1H
X-Robots-Tag:noindex
X-PUBLISHED-TTL:PT1H
BEGIN:VTIMEZONE
TZID:America/Denver
BEGIN:DAYLIGHT
TZOFFSETFROM:-0700
TZOFFSETTO:-0600
TZNAME:MDT
DTSTART:20240310T090000
END:DAYLIGHT
BEGIN:STANDARD
TZOFFSETFROM:-0600
TZOFFSETTO:-0700
TZNAME:MST
DTSTART:20241103T080000
END:STANDARD
BEGIN:DAYLIGHT
TZOFFSETFROM:-0700
TZOFFSETTO:-0600
TZNAME:MDT
DTSTART:20250309T090000
END:DAYLIGHT
BEGIN:STANDARD
TZOFFSETFROM:-0600
TZOFFSETTO:-0700
TZNAME:MST
DTSTART:20251102T080000
END:STANDARD
BEGIN:DAYLIGHT
TZOFFSETFROM:-0700
TZOFFSETTO:-0600
TZNAME:MDT
DTSTART:20260308T090000
END:DAYLIGHT
BEGIN:STANDARD
TZOFFSETFROM:-0600
TZOFFSETTO:-0700
TZNAME:MST
DTSTART:20261101T080000
END:STANDARD
END:VTIMEZONE
BEGIN:VEVENT
DTSTART;TZID=America/Denver:20250707T160000
DTEND;TZID=America/Denver:20250707T200000
DTSTAMP:20260424T062047
CREATED:20250705T173238Z
LAST-MODIFIED:20250705T175445Z
UID:3595-1751904000-1751918400@homesteadinthewillows.org
SUMMARY:HipPOPs Food Truck at South Pool
DESCRIPTION:
URL:https://homesteadinthewillows.org/calendar/hippops-food-truck-at-south-pool/
LOCATION:South Pool
CATEGORIES:Food Trucks
ATTACH;FMTTYPE=image/png:https://homesteadinthewillows.org/wp-content/uploads/2024/04/page-2.png
END:VEVENT
END:VCALENDAR